BEGIN:VCALENDAR
PRODID:-//Microsoft Corporation//Outlook 12.0 MIMEDIR//EN
VERSION:2.0
BEGIN:VEVENT
CLASS:PUBLIC
CREATED:20260421T090219Z
DTSTAMP:20260421T090219Z
DTSTART:20270917T223000Z
DTEND:20270919T140000Z
LAST-MODIFIED:20260421T090219Z
LOCATION:Beaumont Scout Reservation, 2429 R 45 N, Rock Creek, OH 44084
PRIORITY:5
SEQUENCE:0
SUMMARY;LANGUAGE=en-us:OA Fall Induction Weekend 2026 - BSR - BSR Fall Induction
TRANSP:OPAQUE
UID:5a3217859841a497820a0e65c7aeba8c
URL:https://scoutingevent.com/440-114320
DESCRIPTION:For more information visit https://scoutingevent.com/440-114320
X-MICROSOFT-CDO-BUSYSTATUS:BUSY
X-MICROSOFT-CDO-IMPORTANCE:1
X-MICROSOFT-DISALLOW-COUNTER:FALSE
X-MS-OLK-ALLOWEXTERNCHECK:TRUE
X-MS-OLK-AUTOFILLLOCATION:FALSE
X-MS-OLK-CONFTYPE:0
END:VEVENT
BEGIN:VEVENT
CLASS:PUBLIC
CREATED:20260421T090219Z
DTSTAMP:20260421T090219Z
DTSTART:20270813T230000Z
DTEND:20270815T140000Z
LAST-MODIFIED:20260421T090219Z
LOCATION:Firelands Scout Reservation, 13782 Gore Orphanage Rd, Wakeman, OH 44889
PRIORITY:5
SEQUENCE:0
SUMMARY;LANGUAGE=en-us:OA Summer Induction Weekend 2026 - FSR - FSR Summer Induction
TRANSP:OPAQUE
UID:bdf0a664141a02b2c7f3a5edc90e6162
URL:https://scoutingevent.com/440-114318
DESCRIPTION:For more information visit https://scoutingevent.com/440-114318
X-MICROSOFT-CDO-BUSYSTATUS:BUSY
X-MICROSOFT-CDO-IMPORTANCE:1
X-MICROSOFT-DISALLOW-COUNTER:FALSE
X-MS-OLK-ALLOWEXTERNCHECK:TRUE
X-MS-OLK-AUTOFILLLOCATION:FALSE
X-MS-OLK-CONFTYPE:0
END:VEVENT
BEGIN:VEVENT
CLASS:PUBLIC
CREATED:20260421T090219Z
DTSTAMP:20260421T090219Z
DTSTART:20270726T110000Z
DTEND:20270731T180000Z
LAST-MODIFIED:20260421T090219Z
LOCATION:
PRIORITY:5
SEQUENCE:0
SUMMARY;LANGUAGE=en-us:OA NOAC 2027
TRANSP:OPAQUE
UID:dfa9f0adb00a6b18cabb294eda132e63
URL:https://scoutingevent.com/440-114315
DESCRIPTION:For more information visit https://scoutingevent.com/440-114315
X-MICROSOFT-CDO-BUSYSTATUS:BUSY
X-MICROSOFT-CDO-IMPORTANCE:1
X-MICROSOFT-DISALLOW-COUNTER:FALSE
X-MS-OLK-ALLOWEXTERNCHECK:TRUE
X-MS-OLK-AUTOFILLLOCATION:FALSE
X-MS-OLK-CONFTYPE:0
END:VEVENT
BEGIN:VEVENT
CLASS:PUBLIC
CREATED:20260421T090219Z
DTSTAMP:20260421T090219Z
DTSTART:20270723T154500Z
DTEND:20270725T220000Z
LAST-MODIFIED:20260421T090219Z
LOCATION:Firelands Scout Reservation (Camp Wyandot), 52500 Bates Rd, Wakeman, OH 44889
PRIORITY:5
SEQUENCE:0
SUMMARY;LANGUAGE=en-us:S'more Cub Adventures - Firelands Session #2
TRANSP:OPAQUE
UID:4d992350ba1ca0f2d1f3d4aca26fa37f
URL:https://scoutingevent.com/440-114313
DESCRIPTION:For more information visit https://scoutingevent.com/440-114313
X-MICROSOFT-CDO-BUSYSTATUS:BUSY
X-MICROSOFT-CDO-IMPORTANCE:1
X-MICROSOFT-DISALLOW-COUNTER:FALSE
X-MS-OLK-ALLOWEXTERNCHECK:TRUE
X-MS-OLK-AUTOFILLLOCATION:FALSE
X-MS-OLK-CONFTYPE:0
END:VEVENT
BEGIN:VEVENT
CLASS:PUBLIC
CREATED:20260421T090219Z
DTSTAMP:20260421T090219Z
DTSTART:20270625T160000Z
DTEND:20270627T220000Z
LAST-MODIFIED:20260421T090219Z
LOCATION:Firelands Scout Reservation (Camp Wyandot), 52500 Bates Rd, Wakeman, OH 44889
PRIORITY:5
SEQUENCE:0
SUMMARY;LANGUAGE=en-us:S'more Cub Adventures - Firelands Session #1
TRANSP:OPAQUE
UID:eb344589f56fb0dd5b14c242494b5c94
URL:https://scoutingevent.com/440-114313
DESCRIPTION:For more information visit https://scoutingevent.com/440-114313
X-MICROSOFT-CDO-BUSYSTATUS:BUSY
X-MICROSOFT-CDO-IMPORTANCE:1
X-MICROSOFT-DISALLOW-COUNTER:FALSE
X-MS-OLK-ALLOWEXTERNCHECK:TRUE
X-MS-OLK-AUTOFILLLOCATION:FALSE
X-MS-OLK-CONFTYPE:0
END:VEVENT
BEGIN:VEVENT
CLASS:PUBLIC
CREATED:20260421T090219Z
DTSTAMP:20260421T090219Z
DTSTART:20270423T230000Z
DTEND:20270425T140000Z
LAST-MODIFIED:20260421T090219Z
LOCATION:Beaumont Scout Reservation, 2429 R 45 N, Rock Creek, OH 44084
PRIORITY:5
SEQUENCE:0
SUMMARY;LANGUAGE=en-us:OA Spring Induction Weekend 2026 - BSR - BSR Spring Induction
TRANSP:OPAQUE
UID:d35b09946b26ee6c2f4596034dfc8405
URL:https://scoutingevent.com/440-114304
DESCRIPTION:For more information visit https://scoutingevent.com/440-114304
X-MICROSOFT-CDO-BUSYSTATUS:BUSY
X-MICROSOFT-CDO-IMPORTANCE:1
X-MICROSOFT-DISALLOW-COUNTER:FALSE
X-MS-OLK-ALLOWEXTERNCHECK:TRUE
X-MS-OLK-AUTOFILLLOCATION:FALSE
X-MS-OLK-CONFTYPE:0
END:VEVENT
BEGIN:VEVENT
CLASS:PUBLIC
CREATED:20260421T090219Z
DTSTAMP:20260421T090219Z
DTSTART:20270206T220000Z
DTEND:20270207T020000Z
LAST-MODIFIED:20260421T090219Z
LOCATION:Wagner's of Westlake, 30855 Center Ridge Rd, Westlake, OH 44145
PRIORITY:5
SEQUENCE:0
SUMMARY;LANGUAGE=en-us:OA Winter Banquet 2026
TRANSP:OPAQUE
UID:52999388060b2e24292e1f3637a224cb
URL:https://scoutingevent.com/440-114297
DESCRIPTION:For more information visit https://scoutingevent.com/440-114297
X-MICROSOFT-CDO-BUSYSTATUS:BUSY
X-MICROSOFT-CDO-IMPORTANCE:1
X-MICROSOFT-DISALLOW-COUNTER:FALSE
X-MS-OLK-ALLOWEXTERNCHECK:TRUE
X-MS-OLK-AUTOFILLLOCATION:FALSE
X-MS-OLK-CONFTYPE:0
END:VEVENT
BEGIN:VEVENT
CLASS:PUBLIC
CREATED:20260421T090219Z
DTSTAMP:20260421T090219Z
DTSTART:20270109T000000Z
DTEND:20270110T150000Z
LAST-MODIFIED:20260421T090219Z
LOCATION:Beaumont Scout Reservation, 2429 R 45 N, Rock Creek, OH 44084
PRIORITY:5
SEQUENCE:0
SUMMARY;LANGUAGE=en-us:Erielhonan Lodge Leadership Assembly (LLA) 2027
TRANSP:OPAQUE
UID:29c604c416e3c6f6f6c8061751876b7a
URL:https://scoutingevent.com/440-114296
DESCRIPTION:For more information visit https://scoutingevent.com/440-114296
X-MICROSOFT-CDO-BUSYSTATUS:BUSY
X-MICROSOFT-CDO-IMPORTANCE:1
X-MICROSOFT-DISALLOW-COUNTER:FALSE
X-MS-OLK-ALLOWEXTERNCHECK:TRUE
X-MS-OLK-AUTOFILLLOCATION:FALSE
X-MS-OLK-CONFTYPE:0
END:VEVENT
BEGIN:VEVENT
CLASS:PUBLIC
CREATED:20260421T090219Z
DTSTAMP:20260421T090219Z
DTSTART:20260918T223000Z
DTEND:20260920T140000Z
LAST-MODIFIED:20260421T090219Z
LOCATION:Beaumont Scout Reservation, 2429 R 45 N, Rock Creek, OH 44084
PRIORITY:5
SEQUENCE:0
SUMMARY;LANGUAGE=en-us:OA Fall Induction Weekend 2026 - BSR - BSR Fall Induction
TRANSP:OPAQUE
UID:305ff2ef21dcac63d0dd9dd6dbe8e743
URL:https://scoutingevent.com/440-98824
DESCRIPTION:For more information visit https://scoutingevent.com/440-98824
X-MICROSOFT-CDO-BUSYSTATUS:BUSY
X-MICROSOFT-CDO-IMPORTANCE:1
X-MICROSOFT-DISALLOW-COUNTER:FALSE
X-MS-OLK-ALLOWEXTERNCHECK:TRUE
X-MS-OLK-AUTOFILLLOCATION:FALSE
X-MS-OLK-CONFTYPE:0
END:VEVENT
BEGIN:VEVENT
CLASS:PUBLIC
CREATED:20260421T090219Z
DTSTAMP:20260421T090219Z
DTSTART:20260814T230000Z
DTEND:20260816T140000Z
LAST-MODIFIED:20260421T090219Z
LOCATION:Firelands Scout Reservation, 13782 Gore Orphanage Rd, Wakeman, OH 44889
PRIORITY:5
SEQUENCE:0
SUMMARY;LANGUAGE=en-us:OA Summer Induction Weekend 2026 - FSR - FSR Summer Induction
TRANSP:OPAQUE
UID:8110b745c2aef333c9db7ca99eefdd22
URL:https://scoutingevent.com/440-98822
DESCRIPTION:For more information visit https://scoutingevent.com/440-98822
X-MICROSOFT-CDO-BUSYSTATUS:BUSY
X-MICROSOFT-CDO-IMPORTANCE:1
X-MICROSOFT-DISALLOW-COUNTER:FALSE
X-MS-OLK-ALLOWEXTERNCHECK:TRUE
X-MS-OLK-AUTOFILLLOCATION:FALSE
X-MS-OLK-CONFTYPE:0
END:VEVENT
BEGIN:VEVENT
CLASS:PUBLIC
CREATED:20260421T090219Z
DTSTAMP:20260421T090219Z
DTSTART:20260731T154500Z
DTEND:20260802T220000Z
LAST-MODIFIED:20260421T090219Z
LOCATION:Firelands Scout Reservation (Camp Wyandot), 52500 Bates Rd, Wakeman, OH 44889
PRIORITY:5
SEQUENCE:0
SUMMARY;LANGUAGE=en-us:S'more Cub Adventures - Firelands Session #2
TRANSP:OPAQUE
UID:2ff72dcffaabea66d37c00c56f2629e8
URL:https://scoutingevent.com/440-smores2026
DESCRIPTION:For more information visit https://scoutingevent.com/440-smores2026
X-MICROSOFT-CDO-BUSYSTATUS:BUSY
X-MICROSOFT-CDO-IMPORTANCE:1
X-MICROSOFT-DISALLOW-COUNTER:FALSE
X-MS-OLK-ALLOWEXTERNCHECK:TRUE
X-MS-OLK-AUTOFILLLOCATION:FALSE
X-MS-OLK-CONFTYPE:0
END:VEVENT
BEGIN:VEVENT
CLASS:PUBLIC
CREATED:20260421T090219Z
DTSTAMP:20260421T090219Z
DTSTART:20260626T160000Z
DTEND:20260628T220000Z
LAST-MODIFIED:20260421T090219Z
LOCATION:Firelands Scout Reservation (Camp Wyandot), 52500 Bates Rd, Wakeman, OH 44889
PRIORITY:5
SEQUENCE:0
SUMMARY;LANGUAGE=en-us:S'more Cub Adventures - Firelands Session #1
TRANSP:OPAQUE
UID:8160ceb22eb64b907367685381034518
URL:https://scoutingevent.com/440-smores2026
DESCRIPTION:For more information visit https://scoutingevent.com/440-smores2026
X-MICROSOFT-CDO-BUSYSTATUS:BUSY
X-MICROSOFT-CDO-IMPORTANCE:1
X-MICROSOFT-DISALLOW-COUNTER:FALSE
X-MS-OLK-ALLOWEXTERNCHECK:TRUE
X-MS-OLK-AUTOFILLLOCATION:FALSE
X-MS-OLK-CONFTYPE:0
END:VEVENT
BEGIN:VEVENT
CLASS:PUBLIC
CREATED:20260421T090219Z
DTSTAMP:20260421T090219Z
DTSTART:20260509T213000Z
DTEND:20260510T020000Z
LAST-MODIFIED:20260421T090219Z
LOCATION:ForeFront Field, 2009 Baseball Dr , Avon, OH 44011
PRIORITY:5
SEQUENCE:0
SUMMARY;LANGUAGE=en-us:New Sipuwa Chapter-Erielhonan Lodge Lake Erie Crushers Game - Lake Erie Crushers Game
TRANSP:OPAQUE
UID:40a78129ce0a832e934a631e754c4be8
URL:https://scoutingevent.com/440-113396
DESCRIPTION:For more information visit https://scoutingevent.com/440-113396
X-MICROSOFT-CDO-BUSYSTATUS:BUSY
X-MICROSOFT-CDO-IMPORTANCE:1
X-MICROSOFT-DISALLOW-COUNTER:FALSE
X-MS-OLK-ALLOWEXTERNCHECK:TRUE
X-MS-OLK-AUTOFILLLOCATION:FALSE
X-MS-OLK-CONFTYPE:0
END:VEVENT
BEGIN:VEVENT
CLASS:PUBLIC
CREATED:20260421T090219Z
DTSTAMP:20260421T090219Z
DTSTART:20260424T230000Z
DTEND:20260426T140000Z
LAST-MODIFIED:20260421T090219Z
LOCATION:Beaumont Scout Reservation, 2429 R 45 N, Rock Creek, OH 44084
PRIORITY:5
SEQUENCE:0
SUMMARY;LANGUAGE=en-us:OA Spring Induction Weekend 2026 - BSR - BSR Spring Induction
TRANSP:OPAQUE
UID:bbb3940297888947e875ff9895a635dd
URL:https://scoutingevent.com/440-91889
DESCRIPTION:For more information visit https://scoutingevent.com/440-91889
X-MICROSOFT-CDO-BUSYSTATUS:BUSY
X-MICROSOFT-CDO-IMPORTANCE:1
X-MICROSOFT-DISALLOW-COUNTER:FALSE
X-MS-OLK-ALLOWEXTERNCHECK:TRUE
X-MS-OLK-AUTOFILLLOCATION:FALSE
X-MS-OLK-CONFTYPE:0
END:VEVENT
BEGIN:VEVENT
CLASS:PUBLIC
CREATED:20260421T090219Z
DTSTAMP:20260421T090219Z
DTSTART:20260411T133000Z
DTEND:20260411T230000Z
LAST-MODIFIED:20260421T090219Z
LOCATION:Firelands Scout Reservation (Camp Wyandot), 52500 Bates Rd, Wakeman, OH 44889
PRIORITY:5
SEQUENCE:0
SUMMARY;LANGUAGE=en-us:OA Induction Workshop - OA Induction Workshop
TRANSP:OPAQUE
UID:3a93f58398f1102a3020d3e57f93bc0d
URL:https://scoutingevent.com/440-26InductionsWorkshop
DESCRIPTION:For more information visit https://scoutingevent.com/440-26InductionsWorkshop
X-MICROSOFT-CDO-BUSYSTATUS:BUSY
X-MICROSOFT-CDO-IMPORTANCE:1
X-MICROSOFT-DISALLOW-COUNTER:FALSE
X-MS-OLK-ALLOWEXTERNCHECK:TRUE
X-MS-OLK-AUTOFILLLOCATION:FALSE
X-MS-OLK-CONFTYPE:0
END:VEVENT
END:VCALENDAR

