BEGIN:VCALENDAR
PRODID:-//Microsoft Corporation//Outlook 12.0 MIMEDIR//EN
VERSION:2.0
BEGIN:VEVENT
CLASS:PUBLIC
CREATED:20260420T125516Z
DTSTAMP:20260420T125516Z
DTSTART:20261219T140000Z
DTEND:20261219T170000Z
LAST-MODIFIED:20260420T125516Z
LOCATION:Camp Saffran, 1929 Susquehanna Hall Road, Whiteford, MD, MD 21160
PRIORITY:5
SEQUENCE:0
SUMMARY;LANGUAGE=en-us:Conservation Service Projects - December Service Project
TRANSP:OPAQUE
UID:4450f5522658d3e0914dbc616c8da086
URL:https://scoutingevent.com/220-26conservation
DESCRIPTION:For more information visit https://scoutingevent.com/220-26conservation
X-MICROSOFT-CDO-BUSYSTATUS:BUSY
X-MICROSOFT-CDO-IMPORTANCE:1
X-MICROSOFT-DISALLOW-COUNTER:FALSE
X-MS-OLK-ALLOWEXTERNCHECK:TRUE
X-MS-OLK-AUTOFILLLOCATION:FALSE
X-MS-OLK-CONFTYPE:0
END:VEVENT
BEGIN:VEVENT
CLASS:PUBLIC
CREATED:20260420T125516Z
DTSTAMP:20260420T125516Z
DTSTART:20261205T140000Z
DTEND:20261206T180000Z
LAST-MODIFIED:20260420T125516Z
LOCATION:Camp Saffran, 1929 Susquehanna Hall Road, Whiteford, MD, MD 21160
PRIORITY:5
SEQUENCE:0
SUMMARY;LANGUAGE=en-us:Chainsaw Trainings 2026 - Chainsaw Training December
TRANSP:OPAQUE
UID:a33f165e08b324a00e47a9a36c1fd198
URL:https://scoutingevent.com/220-chainsaw
DESCRIPTION:For more information visit https://scoutingevent.com/220-chainsaw
X-MICROSOFT-CDO-BUSYSTATUS:BUSY
X-MICROSOFT-CDO-IMPORTANCE:1
X-MICROSOFT-DISALLOW-COUNTER:FALSE
X-MS-OLK-ALLOWEXTERNCHECK:TRUE
X-MS-OLK-AUTOFILLLOCATION:FALSE
X-MS-OLK-CONFTYPE:0
END:VEVENT
BEGIN:VEVENT
CLASS:PUBLIC
CREATED:20260420T125516Z
DTSTAMP:20260420T125516Z
DTSTART:20261121T190000Z
DTEND:20261122T000000Z
LAST-MODIFIED:20260420T125516Z
LOCATION:Camp Spencer, 3773 Peach Orchard Road, Street, MD 21154
PRIORITY:5
SEQUENCE:0
SUMMARY;LANGUAGE=en-us:Camp Staff Thanksgiving
TRANSP:OPAQUE
UID:32eed6cded153b5d8724a4307cc9a892
URL:https://scoutingevent.com/220-campstaffthanksgiving
DESCRIPTION:For more information visit https://scoutingevent.com/220-campstaffthanksgiving
X-MICROSOFT-CDO-BUSYSTATUS:BUSY
X-MICROSOFT-CDO-IMPORTANCE:1
X-MICROSOFT-DISALLOW-COUNTER:FALSE
X-MS-OLK-ALLOWEXTERNCHECK:TRUE
X-MS-OLK-AUTOFILLLOCATION:FALSE
X-MS-OLK-CONFTYPE:0
END:VEVENT
BEGIN:VEVENT
CLASS:PUBLIC
CREATED:20260420T125516Z
DTSTAMP:20260420T125516Z
DTSTART:20261121T140000Z
DTEND:20261121T170000Z
LAST-MODIFIED:20260420T125516Z
LOCATION:Camp Saffran, 1929 Susquehanna Hall Road, Whiteford, MD, MD 21160
PRIORITY:5
SEQUENCE:0
SUMMARY;LANGUAGE=en-us:Conservation Service Projects - November Service Project
TRANSP:OPAQUE
UID:952e65b22a8f5e05fbf62c77847fea95
URL:https://scoutingevent.com/220-26conservation
DESCRIPTION:For more information visit https://scoutingevent.com/220-26conservation
X-MICROSOFT-CDO-BUSYSTATUS:BUSY
X-MICROSOFT-CDO-IMPORTANCE:1
X-MICROSOFT-DISALLOW-COUNTER:FALSE
X-MS-OLK-ALLOWEXTERNCHECK:TRUE
X-MS-OLK-AUTOFILLLOCATION:FALSE
X-MS-OLK-CONFTYPE:0
END:VEVENT
BEGIN:VEVENT
CLASS:PUBLIC
CREATED:20260420T125516Z
DTSTAMP:20260420T125516Z
DTSTART:20261104T233000Z
DTEND:20261105T010000Z
LAST-MODIFIED:20260420T125516Z
LOCATION:Central Presbyterian Church, 7500 York Rd, Towson, MD 21204
PRIORITY:5
SEQUENCE:0
SUMMARY;LANGUAGE=en-us:Campmaster Dinner
TRANSP:OPAQUE
UID:5941dd2de0f9a535c68a902370160de3
URL:https://scoutingevent.com/220-cmbanquet
DESCRIPTION:For more information visit https://scoutingevent.com/220-cmbanquet
X-MICROSOFT-CDO-BUSYSTATUS:BUSY
X-MICROSOFT-CDO-IMPORTANCE:1
X-MICROSOFT-DISALLOW-COUNTER:FALSE
X-MS-OLK-ALLOWEXTERNCHECK:TRUE
X-MS-OLK-AUTOFILLLOCATION:FALSE
X-MS-OLK-CONFTYPE:0
END:VEVENT
BEGIN:VEVENT
CLASS:PUBLIC
CREATED:20260420T125516Z
DTSTAMP:20260420T125516Z
DTSTART:20261017T130000Z
DTEND:20261017T160000Z
LAST-MODIFIED:20260420T125516Z
LOCATION:Camp Saffran, 1929 Susquehanna Hall Road, Whiteford, MD, MD 21160
PRIORITY:5
SEQUENCE:0
SUMMARY;LANGUAGE=en-us:Conservation Service Projects - October Service Project
TRANSP:OPAQUE
UID:28b271f946c5d9fff83006a898b7b43f
URL:https://scoutingevent.com/220-26conservation
DESCRIPTION:For more information visit https://scoutingevent.com/220-26conservation
X-MICROSOFT-CDO-BUSYSTATUS:BUSY
X-MICROSOFT-CDO-IMPORTANCE:1
X-MICROSOFT-DISALLOW-COUNTER:FALSE
X-MS-OLK-ALLOWEXTERNCHECK:TRUE
X-MS-OLK-AUTOFILLLOCATION:FALSE
X-MS-OLK-CONFTYPE:0
END:VEVENT
BEGIN:VEVENT
CLASS:PUBLIC
CREATED:20260420T125516Z
DTSTAMP:20260420T125516Z
DTSTART:20260919T130000Z
DTEND:20260919T160000Z
LAST-MODIFIED:20260420T125516Z
LOCATION:Camp Saffran, 1929 Susquehanna Hall Road, Whiteford, MD, MD 21160
PRIORITY:5
SEQUENCE:0
SUMMARY;LANGUAGE=en-us:Conservation Service Projects - September Service Project
TRANSP:OPAQUE
UID:5a6594d2b06966744dbdbda70efd55a9
URL:https://scoutingevent.com/220-26conservation
DESCRIPTION:For more information visit https://scoutingevent.com/220-26conservation
X-MICROSOFT-CDO-BUSYSTATUS:BUSY
X-MICROSOFT-CDO-IMPORTANCE:1
X-MICROSOFT-DISALLOW-COUNTER:FALSE
X-MS-OLK-ALLOWEXTERNCHECK:TRUE
X-MS-OLK-AUTOFILLLOCATION:FALSE
X-MS-OLK-CONFTYPE:0
END:VEVENT
BEGIN:VEVENT
CLASS:PUBLIC
CREATED:20260420T125516Z
DTSTAMP:20260420T125516Z
DTSTART:20260815T130000Z
DTEND:20260815T160000Z
LAST-MODIFIED:20260420T125516Z
LOCATION:Camp Saffran, 1929 Susquehanna Hall Road, Whiteford, MD, MD 21160
PRIORITY:5
SEQUENCE:0
SUMMARY;LANGUAGE=en-us:Conservation Service Projects - August Service Project
TRANSP:OPAQUE
UID:5a7bf3751a4cfd1d41f250ce6c0f4a06
URL:https://scoutingevent.com/220-26conservation
DESCRIPTION:For more information visit https://scoutingevent.com/220-26conservation
X-MICROSOFT-CDO-BUSYSTATUS:BUSY
X-MICROSOFT-CDO-IMPORTANCE:1
X-MICROSOFT-DISALLOW-COUNTER:FALSE
X-MS-OLK-ALLOWEXTERNCHECK:TRUE
X-MS-OLK-AUTOFILLLOCATION:FALSE
X-MS-OLK-CONFTYPE:0
END:VEVENT
BEGIN:VEVENT
CLASS:PUBLIC
CREATED:20260420T125516Z
DTSTAMP:20260420T125516Z
DTSTART:20260806T220000Z
DTEND:20260807T010000Z
LAST-MODIFIED:20260420T125516Z
LOCATION:Camp Saffran, 1929 Susquehanna Hall Road, Whiteford, MD, MD 21160
PRIORITY:5
SEQUENCE:0
SUMMARY;LANGUAGE=en-us:Summer Camp Staff Recognition Dinner
TRANSP:OPAQUE
UID:4983e9360dd847f34ce441ffd9d6bfbb
URL:https://scoutingevent.com/220-staffdinner
DESCRIPTION:For more information visit https://scoutingevent.com/220-staffdinner
X-MICROSOFT-CDO-BUSYSTATUS:BUSY
X-MICROSOFT-CDO-IMPORTANCE:1
X-MICROSOFT-DISALLOW-COUNTER:FALSE
X-MS-OLK-ALLOWEXTERNCHECK:TRUE
X-MS-OLK-AUTOFILLLOCATION:FALSE
X-MS-OLK-CONFTYPE:0
END:VEVENT
BEGIN:VEVENT
CLASS:PUBLIC
CREATED:20260420T125516Z
DTSTAMP:20260420T125516Z
DTSTART:20260802T170000Z
DTEND:20260803T190000Z
LAST-MODIFIED:20260420T125516Z
LOCATION:Camp Saffran, 1929 Susquehanna Hall Road, Whiteford, MD, MD 21160
PRIORITY:5
SEQUENCE:0
SUMMARY;LANGUAGE=en-us:Broad Creek Cub Adventure Camp 2026 - Project MOOSE Experience
TRANSP:OPAQUE
UID:d8ed0cba14c3f350b1f521c3eb20f2a9
URL:https://scoutingevent.com/220-cac26
DESCRIPTION:For more information visit https://scoutingevent.com/220-cac26
X-MICROSOFT-CDO-BUSYSTATUS:BUSY
X-MICROSOFT-CDO-IMPORTANCE:1
X-MICROSOFT-DISALLOW-COUNTER:FALSE
X-MS-OLK-ALLOWEXTERNCHECK:TRUE
X-MS-OLK-AUTOFILLLOCATION:FALSE
X-MS-OLK-CONFTYPE:0
END:VEVENT
BEGIN:VEVENT
CLASS:PUBLIC
CREATED:20260420T125516Z
DTSTAMP:20260420T125516Z
DTSTART:20260731T170000Z
DTEND:20260802T190000Z
LAST-MODIFIED:20260420T125516Z
LOCATION:Camp Saffran, 1929 Susquehanna Hall Road, Whiteford, MD, MD 21160
PRIORITY:5
SEQUENCE:0
SUMMARY;LANGUAGE=en-us:Broad Creek Cub Adventure Camp 2026 - Two Nights
TRANSP:OPAQUE
UID:2862d1d6803de90c3fa0c3bfe8a5be26
URL:https://scoutingevent.com/220-cac26
DESCRIPTION:For more information visit https://scoutingevent.com/220-cac26
X-MICROSOFT-CDO-BUSYSTATUS:BUSY
X-MICROSOFT-CDO-IMPORTANCE:1
X-MICROSOFT-DISALLOW-COUNTER:FALSE
X-MS-OLK-ALLOWEXTERNCHECK:TRUE
X-MS-OLK-AUTOFILLLOCATION:FALSE
X-MS-OLK-CONFTYPE:0
END:VEVENT
BEGIN:VEVENT
CLASS:PUBLIC
CREATED:20260420T125516Z
DTSTAMP:20260420T125516Z
DTSTART:20260730T170000Z
DTEND:20260802T130000Z
LAST-MODIFIED:20260420T125516Z
LOCATION:Camp Saffran, 1929 Susquehanna Hall Road, Whiteford, MD, MD 21160
PRIORITY:5
SEQUENCE:0
SUMMARY;LANGUAGE=en-us:Broad Creek Cub Adventure Camp 2026 - Three Nights
TRANSP:OPAQUE
UID:133eca2546d543080ab33ae9bafaee12
URL:https://scoutingevent.com/220-cac26
DESCRIPTION:For more information visit https://scoutingevent.com/220-cac26
X-MICROSOFT-CDO-BUSYSTATUS:BUSY
X-MICROSOFT-CDO-IMPORTANCE:1
X-MICROSOFT-DISALLOW-COUNTER:FALSE
X-MS-OLK-ALLOWEXTERNCHECK:TRUE
X-MS-OLK-AUTOFILLLOCATION:FALSE
X-MS-OLK-CONFTYPE:0
END:VEVENT
BEGIN:VEVENT
CLASS:PUBLIC
CREATED:20260420T125516Z
DTSTAMP:20260420T125516Z
DTSTART:20260719T170000Z
DTEND:20260725T140000Z
LAST-MODIFIED:20260420T125516Z
LOCATION:Camp Saffran, 1929 Susquehanna Hall Road, Whiteford, MD, MD 21160
PRIORITY:5
SEQUENCE:0
SUMMARY;LANGUAGE=en-us:Broad Creek Scout Summer Camp 2026 - Week 4
TRANSP:OPAQUE
UID:3cd036c38473a00f17a9d2f6d8213bfb
URL:https://scoutingevent.com/220-bc26
DESCRIPTION:For more information visit https://scoutingevent.com/220-bc26
X-MICROSOFT-CDO-BUSYSTATUS:BUSY
X-MICROSOFT-CDO-IMPORTANCE:1
X-MICROSOFT-DISALLOW-COUNTER:FALSE
X-MS-OLK-ALLOWEXTERNCHECK:TRUE
X-MS-OLK-AUTOFILLLOCATION:FALSE
X-MS-OLK-CONFTYPE:0
END:VEVENT
BEGIN:VEVENT
CLASS:PUBLIC
CREATED:20260420T125516Z
DTSTAMP:20260420T125516Z
DTSTART:20260712T170000Z
DTEND:20260718T140000Z
LAST-MODIFIED:20260420T125516Z
LOCATION:Camp Saffran, 1929 Susquehanna Hall Road, Whiteford, MD, MD 21160
PRIORITY:5
SEQUENCE:0
SUMMARY;LANGUAGE=en-us:Broad Creek Scout Summer Camp 2026 - Week 3
TRANSP:OPAQUE
UID:cb9f4bbf17902efc712c15cba2367c5d
URL:https://scoutingevent.com/220-bc26
DESCRIPTION:For more information visit https://scoutingevent.com/220-bc26
X-MICROSOFT-CDO-BUSYSTATUS:BUSY
X-MICROSOFT-CDO-IMPORTANCE:1
X-MICROSOFT-DISALLOW-COUNTER:FALSE
X-MS-OLK-ALLOWEXTERNCHECK:TRUE
X-MS-OLK-AUTOFILLLOCATION:FALSE
X-MS-OLK-CONFTYPE:0
END:VEVENT
BEGIN:VEVENT
CLASS:PUBLIC
CREATED:20260420T125516Z
DTSTAMP:20260420T125516Z
DTSTART:20260705T170000Z
DTEND:20260711T140000Z
LAST-MODIFIED:20260420T125516Z
LOCATION:Camp Saffran, 1929 Susquehanna Hall Road, Whiteford, MD, MD 21160
PRIORITY:5
SEQUENCE:0
SUMMARY;LANGUAGE=en-us:Broad Creek Scout Summer Camp 2026 - Week 2
TRANSP:OPAQUE
UID:79d2e6c85bbc8e44594ec8c3b950114e
URL:https://scoutingevent.com/220-bc26
DESCRIPTION:For more information visit https://scoutingevent.com/220-bc26
X-MICROSOFT-CDO-BUSYSTATUS:BUSY
X-MICROSOFT-CDO-IMPORTANCE:1
X-MICROSOFT-DISALLOW-COUNTER:FALSE
X-MS-OLK-ALLOWEXTERNCHECK:TRUE
X-MS-OLK-AUTOFILLLOCATION:FALSE
X-MS-OLK-CONFTYPE:0
END:VEVENT
BEGIN:VEVENT
CLASS:PUBLIC
CREATED:20260420T125516Z
DTSTAMP:20260420T125516Z
DTSTART:20260628T170000Z
DTEND:20260704T140000Z
LAST-MODIFIED:20260420T125516Z
LOCATION:Camp Saffran, 1929 Susquehanna Hall Road, Whiteford, MD, MD 21160
PRIORITY:5
SEQUENCE:0
SUMMARY;LANGUAGE=en-us:Broad Creek Scout Summer Camp 2026 - Week 1
TRANSP:OPAQUE
UID:9ee72c8b50f2fbb304c2f871b0e26b59
URL:https://scoutingevent.com/220-bc26
DESCRIPTION:For more information visit https://scoutingevent.com/220-bc26
X-MICROSOFT-CDO-BUSYSTATUS:BUSY
X-MICROSOFT-CDO-IMPORTANCE:1
X-MICROSOFT-DISALLOW-COUNTER:FALSE
X-MS-OLK-ALLOWEXTERNCHECK:TRUE
X-MS-OLK-AUTOFILLLOCATION:FALSE
X-MS-OLK-CONFTYPE:0
END:VEVENT
BEGIN:VEVENT
CLASS:PUBLIC
CREATED:20260420T125516Z
DTSTAMP:20260420T125516Z
DTSTART:20260621T230000Z
DTEND:20260627T160000Z
LAST-MODIFIED:20260420T125516Z
LOCATION:Camp Saffran, 1929 Susquehanna Hall Road, Whiteford, MD, MD 21160
PRIORITY:5
SEQUENCE:0
SUMMARY;LANGUAGE=en-us:Summer Camp Staff Week
TRANSP:OPAQUE
UID:db96648e40a1b5e63d49d35f3dad8568
URL:https://scoutingevent.com/?OrgKey=BSA220&calendarID=581610
DESCRIPTION:For more information visit https://scoutingevent.com/?OrgKey=BSA220&calendarID=581610
CATEGORIES:Meetings & Notices,Camp Staff
X-MICROSOFT-CDO-BUSYSTATUS:BUSY
X-MICROSOFT-CDO-IMPORTANCE:1
X-MICROSOFT-DISALLOW-COUNTER:FALSE
X-MS-OLK-ALLOWEXTERNCHECK:TRUE
X-MS-OLK-AUTOFILLLOCATION:FALSE
X-MS-OLK-CONFTYPE:0
END:VEVENT
BEGIN:VEVENT
CLASS:PUBLIC
CREATED:20260420T125516Z
DTSTAMP:20260420T125516Z
DTSTART:20260620T130000Z
DTEND:20260620T160000Z
LAST-MODIFIED:20260420T125516Z
LOCATION:Camp Saffran, 1929 Susquehanna Hall Road, Whiteford, MD, MD 21160
PRIORITY:5
SEQUENCE:0
SUMMARY;LANGUAGE=en-us:Conservation Service Projects - June Service Project
TRANSP:OPAQUE
UID:9c05289e85c3a97cceef9cb86080a507
URL:https://scoutingevent.com/220-26conservation
DESCRIPTION:For more information visit https://scoutingevent.com/220-26conservation
X-MICROSOFT-CDO-BUSYSTATUS:BUSY
X-MICROSOFT-CDO-IMPORTANCE:1
X-MICROSOFT-DISALLOW-COUNTER:FALSE
X-MS-OLK-ALLOWEXTERNCHECK:TRUE
X-MS-OLK-AUTOFILLLOCATION:FALSE
X-MS-OLK-CONFTYPE:0
END:VEVENT
BEGIN:VEVENT
CLASS:PUBLIC
CREATED:20260420T125516Z
DTSTAMP:20260420T125516Z
DTSTART:20260618T230000Z
DTEND:20260622T010000Z
LAST-MODIFIED:20260420T125516Z
LOCATION:Camp Saffran, 1929 Susquehanna Hall Road, Whiteford, MD, MD 21160
PRIORITY:5
SEQUENCE:0
SUMMARY;LANGUAGE=en-us:Summer Camp Staff Leaders Week
TRANSP:OPAQUE
UID:54581c2f70964edd1f160049ddf8b1ae
URL:https://scoutingevent.com/?OrgKey=BSA220&calendarID=581609
DESCRIPTION:For more information visit https://scoutingevent.com/?OrgKey=BSA220&calendarID=581609
CATEGORIES:Meetings & Notices,Camp Staff
X-MICROSOFT-CDO-BUSYSTATUS:BUSY
X-MICROSOFT-CDO-IMPORTANCE:1
X-MICROSOFT-DISALLOW-COUNTER:FALSE
X-MS-OLK-ALLOWEXTERNCHECK:TRUE
X-MS-OLK-AUTOFILLLOCATION:FALSE
X-MS-OLK-CONFTYPE:0
END:VEVENT
BEGIN:VEVENT
CLASS:PUBLIC
CREATED:20260420T125516Z
DTSTAMP:20260420T125516Z
DTSTART:20260530T140000Z
DTEND:20260531T143000Z
LAST-MODIFIED:20260420T125516Z
LOCATION:Camp Saffran, 1929 Susquehanna Hall Road, Whiteford, MD, MD 21160
PRIORITY:5
SEQUENCE:0
SUMMARY;LANGUAGE=en-us:2026 Spring Cub Family Weekend - Spring Cub Family Weekend
TRANSP:OPAQUE
UID:070089053cb1027649c335d66a84d49a
URL:https://scoutingevent.com/220-26springcfw
DESCRIPTION:For more information visit https://scoutingevent.com/220-26springcfw
X-MICROSOFT-CDO-BUSYSTATUS:BUSY
X-MICROSOFT-CDO-IMPORTANCE:1
X-MICROSOFT-DISALLOW-COUNTER:FALSE
X-MS-OLK-ALLOWEXTERNCHECK:TRUE
X-MS-OLK-AUTOFILLLOCATION:FALSE
X-MS-OLK-CONFTYPE:0
END:VEVENT
BEGIN:VEVENT
CLASS:PUBLIC
CREATED:20260420T125516Z
DTSTAMP:20260420T125516Z
DTSTART:20260529T220000Z
DTEND:20260531T160000Z
LAST-MODIFIED:20260420T125516Z
LOCATION:Camp Saffran, 1929 Susquehanna Hall Road, Whiteford, MD, MD 21160
PRIORITY:5
SEQUENCE:0
SUMMARY;LANGUAGE=en-us:2026 Spring Cub Family Weekend - Event Staff
TRANSP:OPAQUE
UID:c28dfe459265605b499dbfaa7591da39
URL:https://scoutingevent.com/220-26springcfw
DESCRIPTION:For more information visit https://scoutingevent.com/220-26springcfw
X-MICROSOFT-CDO-BUSYSTATUS:BUSY
X-MICROSOFT-CDO-IMPORTANCE:1
X-MICROSOFT-DISALLOW-COUNTER:FALSE
X-MS-OLK-ALLOWEXTERNCHECK:TRUE
X-MS-OLK-AUTOFILLLOCATION:FALSE
X-MS-OLK-CONFTYPE:0
END:VEVENT
BEGIN:VEVENT
CLASS:PUBLIC
CREATED:20260420T125516Z
DTSTAMP:20260420T125516Z
DTSTART:20260516T130000Z
DTEND:20260516T160000Z
LAST-MODIFIED:20260420T125516Z
LOCATION:Camp Saffran, 1929 Susquehanna Hall Road, Whiteford, MD, MD 21160
PRIORITY:5
SEQUENCE:0
SUMMARY;LANGUAGE=en-us:Conservation Service Projects - May Service Project
TRANSP:OPAQUE
UID:a45ca0994d8fe2d884dd0de9fe7ac3d3
URL:https://scoutingevent.com/220-26conservation
DESCRIPTION:For more information visit https://scoutingevent.com/220-26conservation
X-MICROSOFT-CDO-BUSYSTATUS:BUSY
X-MICROSOFT-CDO-IMPORTANCE:1
X-MICROSOFT-DISALLOW-COUNTER:FALSE
X-MS-OLK-ALLOWEXTERNCHECK:TRUE
X-MS-OLK-AUTOFILLLOCATION:FALSE
X-MS-OLK-CONFTYPE:0
END:VEVENT
BEGIN:VEVENT
CLASS:PUBLIC
CREATED:20260420T125516Z
DTSTAMP:20260420T125516Z
DTSTART:20260508T140000Z
DTEND:20260510T203000Z
LAST-MODIFIED:20260420T125516Z
LOCATION:Camp Saffran, 1929 Susquehanna Hall Road, Whiteford, MD, MD 21160
PRIORITY:5
SEQUENCE:0
SUMMARY;LANGUAGE=en-us:Summer Staff Development Weekends 2026 - Leadership Weekend
TRANSP:OPAQUE
UID:fb769af240ecaf5e80217c677a22d506
URL:https://scoutingevent.com/220-staffweekends
DESCRIPTION:For more information visit https://scoutingevent.com/220-staffweekends
X-MICROSOFT-CDO-BUSYSTATUS:BUSY
X-MICROSOFT-CDO-IMPORTANCE:1
X-MICROSOFT-DISALLOW-COUNTER:FALSE
X-MS-OLK-ALLOWEXTERNCHECK:TRUE
X-MS-OLK-AUTOFILLLOCATION:FALSE
X-MS-OLK-CONFTYPE:0
END:VEVENT
BEGIN:VEVENT
CLASS:PUBLIC
CREATED:20260420T125516Z
DTSTAMP:20260420T125516Z
DTSTART:20260418T130000Z
DTEND:20260418T160000Z
LAST-MODIFIED:20260420T125516Z
LOCATION:Camp Saffran, 1929 Susquehanna Hall Road, Whiteford, MD, MD 21160
PRIORITY:5
SEQUENCE:0
SUMMARY;LANGUAGE=en-us:Conservation Service Projects - April Service Project
TRANSP:OPAQUE
UID:af901b0a0d89946edd4e02b097d5871e
URL:https://scoutingevent.com/220-26conservation
DESCRIPTION:For more information visit https://scoutingevent.com/220-26conservation
X-MICROSOFT-CDO-BUSYSTATUS:BUSY
X-MICROSOFT-CDO-IMPORTANCE:1
X-MICROSOFT-DISALLOW-COUNTER:FALSE
X-MS-OLK-ALLOWEXTERNCHECK:TRUE
X-MS-OLK-AUTOFILLLOCATION:FALSE
X-MS-OLK-CONFTYPE:0
END:VEVENT
BEGIN:VEVENT
CLASS:PUBLIC
CREATED:20260420T125516Z
DTSTAMP:20260420T125516Z
DTSTART:20260412T173000Z
DTEND:20260412T190000Z
LAST-MODIFIED:20260420T125516Z
LOCATION:Camden Yards, 333 W Camden St , Baltimore, MD 21201
PRIORITY:5
SEQUENCE:0
SUMMARY;LANGUAGE=en-us:Scout Day w/the Orioles
TRANSP:OPAQUE
UID:89ed6da2875b3e3993f6dfbf6799431c
URL:https://scoutingevent.com/?OrgKey=BSA220&calendarID=619146
DESCRIPTION:For more information visit https://scoutingevent.com/?OrgKey=BSA220&calendarID=619146
CATEGORIES:Meetings & Notices,Camp Staff
X-MICROSOFT-CDO-BUSYSTATUS:BUSY
X-MICROSOFT-CDO-IMPORTANCE:1
X-MICROSOFT-DISALLOW-COUNTER:FALSE
X-MS-OLK-ALLOWEXTERNCHECK:TRUE
X-MS-OLK-AUTOFILLLOCATION:FALSE
X-MS-OLK-CONFTYPE:0
END:VEVENT
BEGIN:VEVENT
CLASS:PUBLIC
CREATED:20260420T125516Z
DTSTAMP:20260420T125516Z
DTSTART:20260411T130000Z
DTEND:20260412T170000Z
LAST-MODIFIED:20260420T125516Z
LOCATION:Camp Saffran, 1929 Susquehanna Hall Road, Whiteford, MD, MD 21160
PRIORITY:5
SEQUENCE:0
SUMMARY;LANGUAGE=en-us:Chainsaw Trainings 2026 - Chainsaw Training April
TRANSP:OPAQUE
UID:da1230c501f04fd1192ca01b77fd2c94
URL:https://scoutingevent.com/220-chainsaw
DESCRIPTION:For more information visit https://scoutingevent.com/220-chainsaw
X-MICROSOFT-CDO-BUSYSTATUS:BUSY
X-MICROSOFT-CDO-IMPORTANCE:1
X-MICROSOFT-DISALLOW-COUNTER:FALSE
X-MS-OLK-ALLOWEXTERNCHECK:TRUE
X-MS-OLK-AUTOFILLLOCATION:FALSE
X-MS-OLK-CONFTYPE:0
END:VEVENT
BEGIN:VEVENT
CLASS:PUBLIC
CREATED:20260420T125516Z
DTSTAMP:20260420T125516Z
DTSTART:20260411T000000Z
DTEND:20260412T150000Z
LAST-MODIFIED:20260420T125516Z
LOCATION:Camp Spencer, 3773 Peach Orchard Road, Street, MD 21154
PRIORITY:5
SEQUENCE:0
SUMMARY;LANGUAGE=en-us:Summer Staff Development Weekends 2026 - Summer Staff Development Weekend 2
TRANSP:OPAQUE
UID:1b5732580eee1fe38d9e35b6b171a499
URL:https://scoutingevent.com/220-staffweekends
DESCRIPTION:For more information visit https://scoutingevent.com/220-staffweekends
X-MICROSOFT-CDO-BUSYSTATUS:BUSY
X-MICROSOFT-CDO-IMPORTANCE:1
X-MICROSOFT-DISALLOW-COUNTER:FALSE
X-MS-OLK-ALLOWEXTERNCHECK:TRUE
X-MS-OLK-AUTOFILLLOCATION:FALSE
X-MS-OLK-CONFTYPE:0
END:VEVENT
END:VCALENDAR

